BEGIN:VCALENDAR
VERSION:2.0
PRODID:-//85.13.150.63//NONSGML kigkonsult.se iCalcreator 2.20//
CALSCALE:GREGORIAN
METHOD:PUBLISH
X-WR-TIMEZONE:Europe/Berlin
BEGIN:VEVENT
UID:event1139@svngg2.chevalier-sonnenschutz.de
DTSTAMP:20260420T190249Z
CATEGORIES:Großkaliber II
DESCRIPTION:SVng Geifertshofen 2 - SV Gottwollshausen 1\nKategorie: Großkal
 iber II\nICS-Link: https://svngg2.chevalier-sonnenschutz.de/index.php?opti
 on=com_jem&view=event&id=1139:svng-geifertshofen-2-sv-gottwollshausen-1\n
DTSTART;TZID=Europe/Berlin:20260503T100000
DTEND;TZID=Europe/Berlin:20260503T100000
LOCATION:Schützenvereinigung Geifertshofen 1967 e.V\,Meerhäldle 2\,74426 Ge
 ifertshofen\,Germany
SUMMARY:SVng Geifertshofen 2 - SV Gottwollshausen 1
URL:https://svngg2.chevalier-sonnenschutz.de/index.php?option=com_jem&view=
 event&id=1139:svng-geifertshofen-2-sv-gottwollshausen-1
END:VEVENT
BEGIN:VEVENT
UID:event1138@svngg2.chevalier-sonnenschutz.de
DTSTAMP:20260420T190249Z
CATEGORIES:Großkaliber II
DESCRIPTION:SVng Geifertshofen 2 - SSC Kupfer 1\nKategorie: Großkaliber II
 \nICS-Link: https://svngg2.chevalier-sonnenschutz.de/index.php?option=com_
 jem&view=event&id=1138:svng-geifertshofen-2-ssc-kupfer-1\n
DTSTART;TZID=Europe/Berlin:20260607T100000
DTEND;TZID=Europe/Berlin:20260607T100000
LOCATION:Schützenvereinigung Geifertshofen 1967 e.V\,Meerhäldle 2\,74426 Ge
 ifertshofen\,Germany
SUMMARY:SVng Geifertshofen 2 - SSC Kupfer 1
URL:https://svngg2.chevalier-sonnenschutz.de/index.php?option=com_jem&view=
 event&id=1138:svng-geifertshofen-2-ssc-kupfer-1
END:VEVENT
BEGIN:VEVENT
UID:event1148@svngg2.chevalier-sonnenschutz.de
DTSTAMP:20260420T190249Z
CATEGORIES:Großkaliber II
DESCRIPTION:SVng Geifertshofen 2 -  SAbt Niederstetten 1\nKategorie: Großka
 liber II\nICS-Link: https://svngg2.chevalier-sonnenschutz.de/index.php?opt
 ion=com_jem&view=event&id=1148:svng-geifertshofen-2-sabt-niederstetten-1\n
DTSTART;TZID=Europe/Berlin:20260626T190000
DTEND;TZID=Europe/Berlin:20260626T190000
LOCATION:Schützenvereinigung Geifertshofen 1967 e.V\,Meerhäldle 2\,74426 Ge
 ifertshofen\,Germany
SUMMARY:SVng Geifertshofen 2 -  SAbt Niederstetten 1
URL:https://svngg2.chevalier-sonnenschutz.de/index.php?option=com_jem&view=
 event&id=1148:svng-geifertshofen-2-sabt-niederstetten-1
END:VEVENT
END:VCALENDAR
