BEGIN:VCALENDAR
VERSION:2.0
PRODID:-//85.13.150.63//NONSGML kigkonsult.se iCalcreator 2.20//
CALSCALE:GREGORIAN
METHOD:PUBLISH
X-WR-TIMEZONE:Europe/Berlin
BEGIN:VEVENT
UID:event942@svngg2.chevalier-sonnenschutz.de
DTSTAMP:20260419T220848Z
CATEGORIES:Veranstaltung
DESCRIPTION:Hohenlohecup 2023 - Sulzdorf\nKategorie: Veranstaltung\nICS-Lin
 k: https://svngg2.chevalier-sonnenschutz.de/index.php?option=com_jem&view=
 event&id=942:hohenlohecup-2023-sulzdorf\n
DTSTART;TZID=Europe/Berlin:20230716T100000
DTEND;TZID=Europe/Berlin:20230716T150000
LOCATION:Schützenverein Sulzdorf-Hessental e.V\,Wasen 3\,74523 Sulzdorf
SUMMARY:Hohenlohecup 2023 - Sulzdorf
URL:https://svngg2.chevalier-sonnenschutz.de/index.php?option=com_jem&view=
 event&id=942:hohenlohecup-2023-sulzdorf
END:VEVENT
END:VCALENDAR
